BEGIN:VCALENDAR
VERSION:2.0
PRODID:-//TSV Haubersbronn | Abteilung Tennis - ECPv6.15.14//NONSGML v1.0//EN
CALSCALE:GREGORIAN
METHOD:PUBLISH
X-ORIGINAL-URL:https://tsv-haubersbronn.de/tennis
X-WR-CALDESC:Veranstaltungen für TSV Haubersbronn | Abteilung Tennis
REFRESH-INTERVAL;VALUE=DURATION:PT1H
X-Robots-Tag:noindex
X-PUBLISHED-TTL:PT1H
BEGIN:VTIMEZONE
TZID:Europe/Berlin
BEGIN:DAYLIGHT
TZOFFSETFROM:+0100
TZOFFSETTO:+0200
TZNAME:CEST
DTSTART:20250330T010000
END:DAYLIGHT
BEGIN:STANDARD
TZOFFSETFROM:+0200
TZOFFSETTO:+0100
TZNAME:CET
DTSTART:20251026T010000
END:STANDARD
BEGIN:DAYLIGHT
TZOFFSETFROM:+0100
TZOFFSETTO:+0200
TZNAME:CEST
DTSTART:20260329T010000
END:DAYLIGHT
BEGIN:STANDARD
TZOFFSETFROM:+0200
TZOFFSETTO:+0100
TZNAME:CET
DTSTART:20261025T010000
END:STANDARD
BEGIN:DAYLIGHT
TZOFFSETFROM:+0100
TZOFFSETTO:+0200
TZNAME:CEST
DTSTART:20270328T010000
END:DAYLIGHT
BEGIN:STANDARD
TZOFFSETFROM:+0200
TZOFFSETTO:+0100
TZNAME:CET
DTSTART:20271031T010000
END:STANDARD
END:VTIMEZONE
BEGIN:VEVENT
DTSTART;TZID=Europe/Berlin:20260502T100000
DTEND;TZID=Europe/Berlin:20260502T190000
DTSTAMP:20260422T135940
CREATED:20260308T125248Z
LAST-MODIFIED:20260308T125248Z
UID:1538-1777716000-1777748400@tsv-haubersbronn.de
SUMMARY:Saisoneröffnung
DESCRIPTION:Feierliche Saisoneröffnung für Mitglieder\, Freunde und Interessierte der Tennisabteilung. Wir bieten \n\nMixed-Doppel-Turnier\nSpiele rund um Tennis unterstützt durch das WTB-Mobil\nBallwand und Kindergarten-Tennis für unsere Kleinsten Aspiranten\nKaffee und Kuchen\nAusklang bei Grillen und mit leckeren Salaten\n\n(Details können sich noch ändern\, je nach Verfügbarkeit und Wetter) \nNatürlich gibt dies wieder Gelgenheit Arbeitsstunden zu leisten für \n\nAufbau\nAbbau\nDoppelturnier\nTennisspiele\, Unterstützung des WTB-Teams\nKindergartentennis\nEssen\, Trinken\, Grillen\, Abwaschen\nInfostand für Interessierte\n\nbitte meldet Euch über WozzÄpp oder direkt hier
URL:https://tsv-haubersbronn.de/tennis/event/saisoneroeffnung/
END:VEVENT
END:VCALENDAR