BEGIN:VCALENDAR
VERSION:2.0
PRODID:-//TSV Haubersbronn | Abteilung Tischtennis - ECPv6.15.14//NONSGML v1.0//EN
CALSCALE:GREGORIAN
METHOD:PUBLISH
X-ORIGINAL-URL:https://tsv-haubersbronn.de/tischtennis
X-WR-CALDESC:Veranstaltungen für TSV Haubersbronn | Abteilung Tischtennis
REFRESH-INTERVAL;VALUE=DURATION:PT1H
X-Robots-Tag:noindex
X-PUBLISHED-TTL:PT1H
BEGIN:VTIMEZONE
TZID:Europe/Berlin
BEGIN:DAYLIGHT
TZOFFSETFROM:+0100
TZOFFSETTO:+0200
TZNAME:CEST
DTSTART:20250330T010000
END:DAYLIGHT
BEGIN:STANDARD
TZOFFSETFROM:+0200
TZOFFSETTO:+0100
TZNAME:CET
DTSTART:20251026T010000
END:STANDARD
BEGIN:DAYLIGHT
TZOFFSETFROM:+0100
TZOFFSETTO:+0200
TZNAME:CEST
DTSTART:20260329T010000
END:DAYLIGHT
BEGIN:STANDARD
TZOFFSETFROM:+0200
TZOFFSETTO:+0100
TZNAME:CET
DTSTART:20261025T010000
END:STANDARD
BEGIN:DAYLIGHT
TZOFFSETFROM:+0100
TZOFFSETTO:+0200
TZNAME:CEST
DTSTART:20270328T010000
END:DAYLIGHT
BEGIN:STANDARD
TZOFFSETFROM:+0200
TZOFFSETTO:+0100
TZNAME:CET
DTSTART:20271031T010000
END:STANDARD
END:VTIMEZONE
BEGIN:VEVENT
DTSTART;TZID=Europe/Berlin:20260927T110000
DTEND;TZID=Europe/Berlin:20260927T160000
DTSTAMP:20260423T214807
CREATED:20250616T212630Z
LAST-MODIFIED:20260422T070259Z
UID:1300-1790506800-1790524800@tsv-haubersbronn.de
SUMMARY:Saisoneröffnung 26/27
DESCRIPTION:Wie jedes Jahr starten wir in die neue Saison mit einem gemeinsamen Weißwurstfrühstück und später Kaffee und Kuchen in der der Lauswiesenhalle.
URL:https://tsv-haubersbronn.de/tischtennis/event/saisoneroeffnung-25-26/
LOCATION:Lauswiesenhalle Haubersbronn\, Lauswiesen 6\, Schorndorf\, 73614
END:VEVENT
END:VCALENDAR