BEGIN:VCALENDAR
VERSION:2.0
PRODID:-//TSV Haubersbronn | Abteilung Tischtennis - ECPv6.15.14//NONSGML v1.0//EN
CALSCALE:GREGORIAN
METHOD:PUBLISH
X-WR-CALNAME:TSV Haubersbronn | Abteilung Tischtennis
X-ORIGINAL-URL:https://tsv-haubersbronn.de/tischtennis
X-WR-CALDESC:Veranstaltungen für TSV Haubersbronn | Abteilung Tischtennis
REFRESH-INTERVAL;VALUE=DURATION:PT1H
X-Robots-Tag:noindex
X-PUBLISHED-TTL:PT1H
BEGIN:VTIMEZONE
TZID:Europe/Berlin
BEGIN:DAYLIGHT
TZOFFSETFROM:+0100
TZOFFSETTO:+0200
TZNAME:CEST
DTSTART:20250330T010000
END:DAYLIGHT
BEGIN:STANDARD
TZOFFSETFROM:+0200
TZOFFSETTO:+0100
TZNAME:CET
DTSTART:20251026T010000
END:STANDARD
BEGIN:DAYLIGHT
TZOFFSETFROM:+0100
TZOFFSETTO:+0200
TZNAME:CEST
DTSTART:20260329T010000
END:DAYLIGHT
BEGIN:STANDARD
TZOFFSETFROM:+0200
TZOFFSETTO:+0100
TZNAME:CET
DTSTART:20261025T010000
END:STANDARD
BEGIN:DAYLIGHT
TZOFFSETFROM:+0100
TZOFFSETTO:+0200
TZNAME:CEST
DTSTART:20270328T010000
END:DAYLIGHT
BEGIN:STANDARD
TZOFFSETFROM:+0200
TZOFFSETTO:+0100
TZNAME:CET
DTSTART:20271031T010000
END:STANDARD
END:VTIMEZONE
BEGIN:VEVENT
DTSTART;TZID=Europe/Berlin:20260501T103000
DTEND;TZID=Europe/Berlin:20260501T170000
DTSTAMP:20260423T182356
CREATED:20250616T213544Z
LAST-MODIFIED:20260422T065617Z
UID:1314-1777631400-1777654800@tsv-haubersbronn.de
SUMMARY:Maiwanderung
DESCRIPTION:Treffpunkt Maibaum an der Festhalle. \nAbschluss am Wellingshof.
URL:https://tsv-haubersbronn.de/tischtennis/event/maiwanderung/
END:VEVENT
BEGIN:VEVENT
DTSTART;TZID=Europe/Berlin:20260521T190000
DTEND;TZID=Europe/Berlin:20260521T230000
DTSTAMP:20260423T182356
CREATED:20260422T071147Z
LAST-MODIFIED:20260422T100544Z
UID:1481-1779390000-1779404400@tsv-haubersbronn.de
SUMMARY:70er Feier Tischtennis Abteilung
DESCRIPTION:Einladung: 70 Jahre Tischtennis beim TSV Haubersbronn\nLiebe Tischtennis-Kameradin\, lieber Tischtennis-Kamerad\,\nsieben Jahrzehnte voller packender Ballwechsel\, sportlicher Erfolge und gelebter\nKameradschaft liegen hinter uns. Das ist ein Grund zum Feiern!\nWir laden dich herzlich ein\, dieses besondere Jubiläum gemeinsam mit uns zu begehen:\nWann: Donnerstag\, 21. Mai 2026\nWo: Vereinsheim des TSV Haubersbronn (Gasthaus an der Wieslauf)\nBeginn: 19 Uhr\nAn diesem Abend möchten wir nicht nur auf die Geschichte unserer Abteilung zurückblicken\,\nsondern vor allem die Menschen ehren\, die unseren Sport über Jahre hinweg geprägt\nhaben. Im Rahmen der feierlichen Ehrung unserer Jubilare lassen wir die alten Zeiten\naufleben und stoßen auf die Zukunft an.\nFür das leibliche Wohl ist gesorgt.\nEin Jubiläum feiert man am besten in guter Gesellschaft und bei gutem Essen. Daher lädt\ndich die Abteilung herzlich zu einer gemeinsamen Feier ein.\nRückmeldung\nBitte melde dich bis spätestens 30. April 2026 an untenstehenden Kontakt zurück.\nGunter Krischok\n07181 / 65574\nAbteilungsleiter1.Tischtennis@TSV-Haubersbronn.de\nWir freuen uns darauf\, viele bekannte Gesichter aus aktiven und vergangenen Tagen\nwiederzusehen und gemeinsam einen unvergesslichen Abend im Kreise der TSV-Familie zu\nverbringen.\nMit sportlichen Grüßen\,\nDie Abteilungsleitung\nTSV Haubersbronn – Abteilung Tischtennis
URL:https://tsv-haubersbronn.de/tischtennis/event/70er-feier-tischtennis-abteilung/
LOCATION:Vereinsheim TSV Haubersbronn\, Lauswiesen 2\, Schorndorf\, 73614
END:VEVENT
BEGIN:VEVENT
DTSTART;TZID=Europe/Berlin:20260521T200000
DTEND;TZID=Europe/Berlin:20260521T230000
DTSTAMP:20260423T182356
CREATED:20250616T214148Z
LAST-MODIFIED:20250624T151036Z
UID:1318-1779393600-1779404400@tsv-haubersbronn.de
SUMMARY:Hauptversammlung
DESCRIPTION:
URL:https://tsv-haubersbronn.de/tischtennis/event/hauptversammlung/
LOCATION:Lauswiesenhalle Haubersbronn\, Lauswiesen 6\, Schorndorf\, 73614
END:VEVENT
END:VCALENDAR