BEGIN:VCALENDAR
VERSION:2.0
PRODID:-//TSV Haubersbronn | Abteilung Tischtennis - ECPv6.15.14//NONSGML v1.0//EN
CALSCALE:GREGORIAN
METHOD:PUBLISH
X-WR-CALNAME:TSV Haubersbronn | Abteilung Tischtennis
X-ORIGINAL-URL:https://tsv-haubersbronn.de/tischtennis
X-WR-CALDESC:Veranstaltungen für TSV Haubersbronn | Abteilung Tischtennis
REFRESH-INTERVAL;VALUE=DURATION:PT1H
X-Robots-Tag:noindex
X-PUBLISHED-TTL:PT1H
BEGIN:VTIMEZONE
TZID:Europe/Berlin
BEGIN:DAYLIGHT
TZOFFSETFROM:+0100
TZOFFSETTO:+0200
TZNAME:CEST
DTSTART:20260329T010000
END:DAYLIGHT
BEGIN:STANDARD
TZOFFSETFROM:+0200
TZOFFSETTO:+0100
TZNAME:CET
DTSTART:20261025T010000
END:STANDARD
BEGIN:DAYLIGHT
TZOFFSETFROM:+0100
TZOFFSETTO:+0200
TZNAME:CEST
DTSTART:20270328T010000
END:DAYLIGHT
BEGIN:STANDARD
TZOFFSETFROM:+0200
TZOFFSETTO:+0100
TZNAME:CET
DTSTART:20271031T010000
END:STANDARD
BEGIN:DAYLIGHT
TZOFFSETFROM:+0100
TZOFFSETTO:+0200
TZNAME:CEST
DTSTART:20280326T010000
END:DAYLIGHT
BEGIN:STANDARD
TZOFFSETFROM:+0200
TZOFFSETTO:+0100
TZNAME:CET
DTSTART:20281029T010000
END:STANDARD
END:VTIMEZONE
BEGIN:VEVENT
DTSTART;TZID=Europe/Berlin:20270116T160000
DTEND;TZID=Europe/Berlin:20270116T220000
DTSTAMP:20260424T023008
CREATED:20250616T213213Z
LAST-MODIFIED:20260422T065502Z
UID:1309-1800115200-1800136800@tsv-haubersbronn.de
SUMMARY:Vereinsmeisterschaften-Einzel
DESCRIPTION:
URL:https://tsv-haubersbronn.de/tischtennis/event/einzelvereinsmeisterschaften/
LOCATION:Lauswiesenhalle Haubersbronn\, Lauswiesen 6\, Schorndorf\, 73614
END:VEVENT
BEGIN:VEVENT
DTSTART;TZID=Europe/Berlin:20270121T200000
DTEND;TZID=Europe/Berlin:20270121T220000
DTSTAMP:20260424T023008
CREATED:20250616T213302Z
LAST-MODIFIED:20260422T065419Z
UID:1308-1800561600-1800568800@tsv-haubersbronn.de
SUMMARY:Vereinsmeisterschaften-Doppel
DESCRIPTION:
URL:https://tsv-haubersbronn.de/tischtennis/event/doppelvereinsmeisterschaften/
LOCATION:Lauswiesenhalle Haubersbronn\, Lauswiesen 6\, Schorndorf\, 73614
END:VEVENT
END:VCALENDAR